BEGIN:VCALENDAR
VERSION:2.0
PRODID:-//Jumelages Avrillé - ECPv6.15.20//NONSGML v1.0//EN
CALSCALE:GREGORIAN
METHOD:PUBLISH
X-ORIGINAL-URL:https://jumelages-avrille49.fr
X-WR-CALDESC:Évènements pour Jumelages Avrillé
REFRESH-INTERVAL;VALUE=DURATION:PT1H
X-Robots-Tag:noindex
X-PUBLISHED-TTL:PT1H
BEGIN:VTIMEZONE
TZID:Europe/Paris
BEGIN:DAYLIGHT
TZOFFSETFROM:+0100
TZOFFSETTO:+0200
TZNAME:CEST
DTSTART:20200329T010000
END:DAYLIGHT
BEGIN:STANDARD
TZOFFSETFROM:+0200
TZOFFSETTO:+0100
TZNAME:CET
DTSTART:20201025T010000
END:STANDARD
BEGIN:DAYLIGHT
TZOFFSETFROM:+0100
TZOFFSETTO:+0200
TZNAME:CEST
DTSTART:20210328T010000
END:DAYLIGHT
BEGIN:STANDARD
TZOFFSETFROM:+0200
TZOFFSETTO:+0100
TZNAME:CET
DTSTART:20211031T010000
END:STANDARD
BEGIN:DAYLIGHT
TZOFFSETFROM:+0100
TZOFFSETTO:+0200
TZNAME:CEST
DTSTART:20220327T010000
END:DAYLIGHT
BEGIN:STANDARD
TZOFFSETFROM:+0200
TZOFFSETTO:+0100
TZNAME:CET
DTSTART:20221030T010000
END:STANDARD
END:VTIMEZONE
BEGIN:VEVENT
DTSTART;TZID=Europe/Paris:20211119T193000
DTEND;TZID=Europe/Paris:20211119T233000
DTSTAMP:20260424T090553
CREATED:20211025T122605Z
LAST-MODIFIED:20211025T122605Z
UID:2719-1637350200-1637364600@jumelages-avrille49.fr
SUMMARY:Repas des Jumelages
DESCRIPTION:La soirée des jumelages aura lieu le vendredi 19 novembre 2021\, au Domaine du Moulin Cavier. \n \nNous serons heureux de vous y retrouver à partir de 19h30. \n \nLa soirée est ouverte à toutes les Avrillaises et tous les Avrillais\, membres ou non des Jumelages d’Avrillé. \n \nVous pouvez télécharger le formulaire d’inscription en cliquant ici. \nAu plaisir de vous revoir le 19 novembre.
URL:https://jumelages-avrille49.fr/event/repas-des-jumelages-2/
LOCATION:Domaine du Moulin Cavier\, Rond-Point de la Croix Cadeau\, Avrillé\, 49240\, France
CATEGORIES:Repas des Jumelages
END:VEVENT
END:VCALENDAR