BEGIN:VCALENDAR
VERSION:2.0
PRODID:-//Jumelages Avrillé - ECPv6.15.20//NONSGML v1.0//EN
CALSCALE:GREGORIAN
METHOD:PUBLISH
X-WR-CALNAME:Jumelages Avrillé
X-ORIGINAL-URL:https://jumelages-avrille49.fr
X-WR-CALDESC:Évènements pour Jumelages Avrillé
REFRESH-INTERVAL;VALUE=DURATION:PT1H
X-Robots-Tag:noindex
X-PUBLISHED-TTL:PT1H
BEGIN:VTIMEZONE
TZID:Europe/Paris
BEGIN:DAYLIGHT
TZOFFSETFROM:+0100
TZOFFSETTO:+0200
TZNAME:CEST
DTSTART:20210328T010000
END:DAYLIGHT
BEGIN:STANDARD
TZOFFSETFROM:+0200
TZOFFSETTO:+0100
TZNAME:CET
DTSTART:20211031T010000
END:STANDARD
BEGIN:DAYLIGHT
TZOFFSETFROM:+0100
TZOFFSETTO:+0200
TZNAME:CEST
DTSTART:20220327T010000
END:DAYLIGHT
BEGIN:STANDARD
TZOFFSETFROM:+0200
TZOFFSETTO:+0100
TZNAME:CET
DTSTART:20221030T010000
END:STANDARD
BEGIN:DAYLIGHT
TZOFFSETFROM:+0100
TZOFFSETTO:+0200
TZNAME:CEST
DTSTART:20230326T010000
END:DAYLIGHT
BEGIN:STANDARD
TZOFFSETFROM:+0200
TZOFFSETTO:+0100
TZNAME:CET
DTSTART:20231029T010000
END:STANDARD
END:VTIMEZONE
BEGIN:VEVENT
DTSTART;TZID=Europe/Paris:20220225T200000
DTEND;TZID=Europe/Paris:20220225T220000
DTSTAMP:20260424T070417
CREATED:20220209T175828Z
LAST-MODIFIED:20220216T170654Z
UID:2728-1645819200-1645826400@jumelages-avrille49.fr
SUMMARY:Assemblée générale
DESCRIPTION:Vous êtes conviés à participer à l’Assemblée générale des jumelages d’Avrillé qui se tiendra le 25 février 2022 à la salle Victor Hugo\, sous l’église Saint-Gilles à Avrillé. \nMerci de bien vouloir répondre à ce questionnaire qui nous permettra d’évaluer le nombre de participants\, en cliquant sur le lien suivant : https://forms.gle/TBoRfhdv25psuMQcA \nL’Assemblée générale est soumise aux diverses mesures sanitaires\, un contrôle du passe vaccinal sera effectué à l’entrée. \nAu plaisir de vous retrouver.
URL:https://jumelages-avrille49.fr/event/assemblee-generale-2/
LOCATION:Salle Victor Hugo – Avrillé\, 213 avenue Pierre Mendès-France\, Avrillé\, 49240\, France
CATEGORIES:Assemblée Générale
ATTACH;FMTTYPE=image/jpeg:https://jumelages-avrille49.fr/wp-content/uploads/2016/11/AG.jpg
END:VEVENT
END:VCALENDAR