BEGIN:VCALENDAR
VERSION:2.0
PRODID:-//Jumelages Avrillé - ECPv6.15.20//NONSGML v1.0//EN
CALSCALE:GREGORIAN
METHOD:PUBLISH
X-ORIGINAL-URL:http://jumelages-avrille49.fr
X-WR-CALDESC:Évènements pour Jumelages Avrillé
REFRESH-INTERVAL;VALUE=DURATION:PT1H
X-Robots-Tag:noindex
X-PUBLISHED-TTL:PT1H
BEGIN:VTIMEZONE
TZID:Europe/Paris
BEGIN:DAYLIGHT
TZOFFSETFROM:+0100
TZOFFSETTO:+0200
TZNAME:CEST
DTSTART:20210328T010000
END:DAYLIGHT
BEGIN:STANDARD
TZOFFSETFROM:+0200
TZOFFSETTO:+0100
TZNAME:CET
DTSTART:20211031T010000
END:STANDARD
BEGIN:DAYLIGHT
TZOFFSETFROM:+0100
TZOFFSETTO:+0200
TZNAME:CEST
DTSTART:20220327T010000
END:DAYLIGHT
BEGIN:STANDARD
TZOFFSETFROM:+0200
TZOFFSETTO:+0100
TZNAME:CET
DTSTART:20221030T010000
END:STANDARD
BEGIN:DAYLIGHT
TZOFFSETFROM:+0100
TZOFFSETTO:+0200
TZNAME:CEST
DTSTART:20230326T010000
END:DAYLIGHT
BEGIN:STANDARD
TZOFFSETFROM:+0200
TZOFFSETTO:+0100
TZNAME:CET
DTSTART:20231029T010000
END:STANDARD
END:VTIMEZONE
BEGIN:VEVENT
DTSTART;TZID=Europe/Paris:20220517T183000
DTEND;TZID=Europe/Paris:20220517T200000
DTSTAMP:20260425T205240
CREATED:20220511T131003Z
LAST-MODIFIED:20220511T131003Z
UID:2760-1652812200-1652817600@jumelages-avrille49.fr
SUMMARY:Réunion du Conseil d'Administration
DESCRIPTION:Le Conseil d’Administration des Jumelages d’Avrillé se réunira le mardi 17 mai prochain.
URL:http://jumelages-avrille49.fr/event/reunion-du-conseil-dadministration-11/
LOCATION:Maison de Quartier de l’Adézière\, Avrillé\, Allée Camille Pissaro\, Avrillé\, France
END:VEVENT
END:VCALENDAR