BEGIN:VCALENDAR
VERSION:2.0
PRODID:-//Jumelages Avrillé - ECPv6.15.20//NONSGML v1.0//EN
CALSCALE:GREGORIAN
METHOD:PUBLISH
X-WR-CALNAME:Jumelages Avrillé
X-ORIGINAL-URL:http://jumelages-avrille49.fr
X-WR-CALDESC:Évènements pour Jumelages Avrillé
REFRESH-INTERVAL;VALUE=DURATION:PT1H
X-Robots-Tag:noindex
X-PUBLISHED-TTL:PT1H
BEGIN:VTIMEZONE
TZID:Europe/Paris
BEGIN:DAYLIGHT
TZOFFSETFROM:+0100
TZOFFSETTO:+0200
TZNAME:CEST
DTSTART:20240331T010000
END:DAYLIGHT
BEGIN:STANDARD
TZOFFSETFROM:+0200
TZOFFSETTO:+0100
TZNAME:CET
DTSTART:20241027T010000
END:STANDARD
BEGIN:DAYLIGHT
TZOFFSETFROM:+0100
TZOFFSETTO:+0200
TZNAME:CEST
DTSTART:20250330T010000
END:DAYLIGHT
BEGIN:STANDARD
TZOFFSETFROM:+0200
TZOFFSETTO:+0100
TZNAME:CET
DTSTART:20251026T010000
END:STANDARD
BEGIN:DAYLIGHT
TZOFFSETFROM:+0100
TZOFFSETTO:+0200
TZNAME:CEST
DTSTART:20260329T010000
END:DAYLIGHT
BEGIN:STANDARD
TZOFFSETFROM:+0200
TZOFFSETTO:+0100
TZNAME:CET
DTSTART:20261025T010000
END:STANDARD
END:VTIMEZONE
BEGIN:VEVENT
DTSTART;VALUE=DATE:20250508
DTEND;VALUE=DATE:20250509
DTSTAMP:20260419T165704
CREATED:20250508T143719Z
LAST-MODIFIED:20250508T143837Z
UID:2951-1746662400-1746748799@jumelages-avrille49.fr
SUMMARY:En route pour Schwalbach
DESCRIPTION:Voyage à Schwalbach.\nDépart aujourd’hui 8 mai pour un groupe d’une cinquantaine d’Avrillais.
URL:http://jumelages-avrille49.fr/event/2951/
END:VEVENT
BEGIN:VEVENT
DTSTART;TZID=Europe/Paris:20250508T080000
DTEND;TZID=Europe/Paris:20250508T170000
DTSTAMP:20260419T165704
CREATED:20250508T144105Z
LAST-MODIFIED:20250508T144212Z
UID:2955-1746691200-1746723600@jumelages-avrille49.fr
SUMMARY:Réception Fen Edge Villages
DESCRIPTION:Le Comité des Jumelages d’Avrillé recevra une délégation des Fen Edge Villages du vendredi 23 mai au lundi 26 mai.
URL:http://jumelages-avrille49.fr/event/reception-fen-edge-villages/
END:VEVENT
END:VCALENDAR